BEGIN:VCALENDAR
VERSION:2.0
PRODID:-//University Decision Support - ECPv6.15.18//NONSGML v1.0//EN
CALSCALE:GREGORIAN
METHOD:PUBLISH
X-ORIGINAL-URL:https://uds.northeastern.edu
X-WR-CALDESC:Events for University Decision Support
REFRESH-INTERVAL;VALUE=DURATION:PT1H
X-Robots-Tag:noindex
X-PUBLISHED-TTL:PT1H
BEGIN:VTIMEZONE
TZID:UTC
BEGIN:STANDARD
TZOFFSETFROM:+0000
TZOFFSETTO:+0000
TZNAME:UTC
DTSTART:20190101T000000
END:STANDARD
END:VTIMEZONE
BEGIN:VEVENT
DTSTART;TZID=UTC:20200203T080000
DTEND;TZID=UTC:20200331T170000
DTSTAMP:20260423T215551
CREATED:20260313T152814Z
LAST-MODIFIED:20260313T152814Z
UID:1952-1580716800-1585674000@uds.northeastern.edu
SUMMARY:Skyfactor\, Residential Survey
DESCRIPTION:Biannual residential survey administered by Residential Life \nPopulation: Undergraduate students who reside on campus
URL:https://uds.northeastern.edu/event/skyfactor-residential-survey/
END:VEVENT
BEGIN:VEVENT
DTSTART;TZID=UTC:20200218T080000
DTEND;TZID=UTC:20200330T000000
DTSTAMP:20260423T215551
CREATED:20260313T152814Z
LAST-MODIFIED:20260313T152814Z
UID:1954-1582012800-1585526400@uds.northeastern.edu
SUMMARY:Center for Financial Independence
DESCRIPTION:A random sample of enrolled undergraduate and graduate students.
URL:https://uds.northeastern.edu/event/center-for-financial-independence/
END:VEVENT
BEGIN:VEVENT
DTSTART;TZID=UTC:20200224T080000
DTEND;TZID=UTC:20200320T170000
DTSTAMP:20260423T215551
CREATED:20260313T152913Z
LAST-MODIFIED:20260313T152913Z
UID:1955-1582531200-1584723600@uds.northeastern.edu
SUMMARY:COE Academic Advising Survey
DESCRIPTION:A sample of the College of Engineering undergraduate students.
URL:https://uds.northeastern.edu/event/coe-academic-advising-survey/
END:VEVENT
END:VCALENDAR