BEGIN:VCALENDAR
VERSION:2.0
PRODID:-//University Decision Support - ECPv6.15.18//NONSGML v1.0//EN
CALSCALE:GREGORIAN
METHOD:PUBLISH
X-WR-CALNAME:University Decision Support
X-ORIGINAL-URL:https://uds.northeastern.edu
X-WR-CALDESC:Events for University Decision Support
REFRESH-INTERVAL;VALUE=DURATION:PT1H
X-Robots-Tag:noindex
X-PUBLISHED-TTL:PT1H
BEGIN:VTIMEZONE
TZID:UTC
BEGIN:STANDARD
TZOFFSETFROM:+0000
TZOFFSETTO:+0000
TZNAME:UTC
DTSTART:20230101T000000
END:STANDARD
END:VTIMEZONE
BEGIN:VEVENT
DTSTART;TZID=UTC:20240123T080000
DTEND;TZID=UTC:20240213T170000
DTSTAMP:20260423T024928
CREATED:20260313T153925Z
LAST-MODIFIED:20260313T153925Z
UID:2021-1705996800-1707843600@uds.northeastern.edu
SUMMARY:Pre Co-op and Pre Co-op Class Surveys
DESCRIPTION:Population for the Pre Co-op survey: All UG students who signed up for the co-op placement in Spring 2024 (administered via NUworks)\nPopulation for the Pre Co-op Course survey: All UG students who are enrolled in pre -co-op course in Spring 2024 (administered via Canvas)
URL:https://uds.northeastern.edu/event/pre-co-op-and-pre-co-op-class-surveys/
END:VEVENT
END:VCALENDAR