BEGIN:VCALENDAR
VERSION:2.0
PRODID:-//University Decision Support - ECPv6.15.18//NONSGML v1.0//EN
CALSCALE:GREGORIAN
METHOD:PUBLISH
X-WR-CALNAME:University Decision Support
X-ORIGINAL-URL:https://uds.northeastern.edu
X-WR-CALDESC:Events for University Decision Support
REFRESH-INTERVAL;VALUE=DURATION:PT1H
X-Robots-Tag:noindex
X-PUBLISHED-TTL:PT1H
BEGIN:VTIMEZONE
TZID:UTC
BEGIN:STANDARD
TZOFFSETFROM:+0000
TZOFFSETTO:+0000
TZNAME:UTC
DTSTART:20230101T000000
END:STANDARD
END:VTIMEZONE
BEGIN:VEVENT
DTSTART;TZID=UTC:20241010T080000
DTEND;TZID=UTC:20241104T170000
DTSTAMP:20260419T122944
CREATED:20260313T154125Z
LAST-MODIFIED:20260313T154125Z
UID:2032-1728547200-1730739600@uds.northeastern.edu
SUMMARY:COE Undergraduate Academic Advising Survey - 2024
DESCRIPTION:College of Engineering: Undergraduate students
URL:https://uds.northeastern.edu/event/coe-undergraduate-academic-advising-survey-2024/
END:VEVENT
BEGIN:VEVENT
DTSTART;TZID=UTC:20241017T080000
DTEND;TZID=UTC:20241115T170000
DTSTAMP:20260419T122944
CREATED:20260313T154125Z
LAST-MODIFIED:20260313T154125Z
UID:2030-1729152000-1731690000@uds.northeastern.edu
SUMMARY:Graduate Student Academic Experience Survey
DESCRIPTION:All actively enrolled master’s and professional doctorate students
URL:https://uds.northeastern.edu/event/graduate-student-academic-experience-survey/
END:VEVENT
BEGIN:VEVENT
DTSTART;TZID=UTC:20241022T080000
DTEND;TZID=UTC:20241112T170000
DTSTAMP:20260419T122944
CREATED:20260313T154225Z
LAST-MODIFIED:20260313T154225Z
UID:2035-1729584000-1731430800@uds.northeastern.edu
SUMMARY:COS Mentoring Survey - 2024
DESCRIPTION:All faculty\, students\, and staff from the College of Science
URL:https://uds.northeastern.edu/event/cos-mentoring-survey-2024/
END:VEVENT
END:VCALENDAR