BEGIN:VCALENDAR
VERSION:2.0
PRODID:-//University Decision Support - ECPv6.15.18//NONSGML v1.0//EN
CALSCALE:GREGORIAN
METHOD:PUBLISH
X-WR-CALNAME:University Decision Support
X-ORIGINAL-URL:https://uds.northeastern.edu
X-WR-CALDESC:Events for University Decision Support
REFRESH-INTERVAL;VALUE=DURATION:PT1H
X-Robots-Tag:noindex
X-PUBLISHED-TTL:PT1H
BEGIN:VTIMEZONE
TZID:UTC
BEGIN:STANDARD
TZOFFSETFROM:+0000
TZOFFSETTO:+0000
TZNAME:UTC
DTSTART:20190101T000000
END:STANDARD
END:VTIMEZONE
BEGIN:VEVENT
DTSTART;TZID=UTC:20200316T000000
DTEND;TZID=UTC:20200530T235959
DTSTAMP:20260420T232956
CREATED:20260313T152913Z
LAST-MODIFIED:20260313T152913Z
UID:1956-1584316800-1590883199@uds.northeastern.edu
SUMMARY:2020 HERI Faculty Survey
DESCRIPTION:All Full-Time Northeastern faculty members
URL:https://uds.northeastern.edu/event/2020-heri-faculty-survey/
END:VEVENT
BEGIN:VEVENT
DTSTART;TZID=UTC:20200406T080000
DTEND;TZID=UTC:20200511T170000
DTSTAMP:20260420T232956
CREATED:20260313T152913Z
LAST-MODIFIED:20260313T152913Z
UID:1957-1586160000-1589216400@uds.northeastern.edu
SUMMARY:Post-Graduation Destination Survey - Class of 2020
DESCRIPTION:All graduating UG and GR students
URL:https://uds.northeastern.edu/event/post-graduation-destination-survey-class-of-2020/
END:VEVENT
BEGIN:VEVENT
DTSTART;TZID=UTC:20200414T000000
DTEND;TZID=UTC:20200510T235959
DTSTAMP:20260420T232956
CREATED:20260313T152614Z
LAST-MODIFIED:20260313T152614Z
UID:1942-1586822400-1589155199@uds.northeastern.edu
SUMMARY:Explore Program Feedback Survey
DESCRIPTION:Population: Former undeclared UG students (Fall 2018- Spring 2019 admission)
URL:https://uds.northeastern.edu/event/explore-program-feedback-survey/
CATEGORIES:Survey Research
END:VEVENT
BEGIN:VEVENT
DTSTART;TZID=UTC:20200424T080000
DTEND;TZID=UTC:20200504T170000
DTSTAMP:20260420T232956
CREATED:20260313T152914Z
LAST-MODIFIED:20260313T152914Z
UID:1958-1587715200-1588611600@uds.northeastern.edu
SUMMARY:Survey of Online Learning Experience
DESCRIPTION:Traditional undergraduate students enrolled in Spring semester.
URL:https://uds.northeastern.edu/event/survey-of-online-learning-experience/
CATEGORIES:Survey Research
END:VEVENT
END:VCALENDAR