BEGIN:VCALENDAR
VERSION:2.0
PRODID:-//University Decision Support - ECPv6.15.18//NONSGML v1.0//EN
CALSCALE:GREGORIAN
METHOD:PUBLISH
X-WR-CALNAME:University Decision Support
X-ORIGINAL-URL:https://uds.northeastern.edu
X-WR-CALDESC:Events for University Decision Support
REFRESH-INTERVAL;VALUE=DURATION:PT1H
X-Robots-Tag:noindex
X-PUBLISHED-TTL:PT1H
BEGIN:VTIMEZONE
TZID:UTC
BEGIN:STANDARD
TZOFFSETFROM:+0000
TZOFFSETTO:+0000
TZNAME:UTC
DTSTART:20240101T000000
END:STANDARD
END:VTIMEZONE
BEGIN:VEVENT
DTSTART;TZID=UTC:20251029T080000
DTEND;TZID=UTC:20251129T170000
DTSTAMP:20260422T115106
CREATED:20260313T154310Z
LAST-MODIFIED:20260313T154310Z
UID:2042-1761724800-1764435600@uds.northeastern.edu
SUMMARY:Graduate Student Academic Experience Survey - Fall 2025
DESCRIPTION:All actively enrolled master’s and professional doctorate students
URL:https://uds.northeastern.edu/event/graduate-student-academic-experience-survey-fall-2025/
END:VEVENT
BEGIN:VEVENT
DTSTART;TZID=UTC:20251103T080000
DTEND;TZID=UTC:20251109T170000
DTSTAMP:20260422T115106
CREATED:20260313T154411Z
LAST-MODIFIED:20260313T154411Z
UID:2049-1762156800-1762707600@uds.northeastern.edu
SUMMARY:Rideshare Survey
DESCRIPTION:Sample of commuting faculty\, staff\, and students
URL:https://uds.northeastern.edu/event/rideshare-survey/
END:VEVENT
BEGIN:VEVENT
DTSTART;TZID=UTC:20251112T080000
DTEND;TZID=UTC:20251213T170000
DTSTAMP:20260422T115106
CREATED:20260313T154310Z
LAST-MODIFIED:20260313T154310Z
UID:2041-1762934400-1765645200@uds.northeastern.edu
SUMMARY:Fall 2025 Sustainability Literacy Survey
DESCRIPTION:A sample of traditional UG and GR students
URL:https://uds.northeastern.edu/event/fall-2025-sustainability-literacy-survey/
END:VEVENT
BEGIN:VEVENT
DTSTART;TZID=UTC:20251120T080000
DTEND;TZID=UTC:20251212T170000
DTSTAMP:20260422T115106
CREATED:20260313T154510Z
LAST-MODIFIED:20260313T154510Z
UID:2050-1763625600-1765558800@uds.northeastern.edu
SUMMARY:Graduating Honor Senior Survey - Fall 2025
DESCRIPTION:Population: Honors students graduating in December 2025
URL:https://uds.northeastern.edu/event/graduating-honor-senior-survey-fall-2025/
CATEGORIES:Survey Research
END:VEVENT
BEGIN:VEVENT
DTSTART;TZID=UTC:20251124T080000
DTEND;TZID=UTC:20260106T170000
DTSTAMP:20260422T115106
CREATED:20260313T154510Z
LAST-MODIFIED:20260313T154510Z
UID:2051-1763971200-1767718800@uds.northeastern.edu
SUMMARY:Healthy Minds Study (HMS)
DESCRIPTION:Population: Random sample of undergraduate and graduate students at Northeastern U.S. campuses \nAdministered by Student Affairs
URL:https://uds.northeastern.edu/event/healthy-minds-study-hms/
END:VEVENT
END:VCALENDAR